BEGIN:VCALENDAR
VERSION:2.0
PRODID:-//Plone.org//NONSGML plone.app.event//EN
X-WR-TIMEZONE:Europe/Vienna
BEGIN:VEVENT
SUMMARY:Bosch & Kantor | Maxim Kantor: Das Jüngste Gericht
DTSTART;VALUE=DATE:20181003
DTEND;VALUE=DATE:20181004
DTSTAMP:20260423T222339Z
UID:af1713e434a070b7210e93a06c3e7870@www.akbild.ac.at
CREATED:20220312T142033Z
DESCRIPTION:Aus der Ausstellungsreihe\n \n  Korrespondenzen.
LAST-MODIFIED:20240802T102308Z
URL:https://www.akbild.ac.at/de/museum-und-ausstellungen/kunstsammlungen/a
 ktuelles/gemaeldegalerie/ausstellungen/2018/bosch-kantor-maxim-kantor-das-
 ju308ngste-gericht/SubEvent
END:VEVENT
END:VCALENDAR
