BEGIN:VCALENDAR
VERSION:2.0
PRODID:-//Plone.org//NONSGML plone.app.event//EN
X-WR-TIMEZONE:Europe/Vienna
BEGIN:VEVENT
SUMMARY:Direktorinnenführung mit Sabine Folie
DTSTART;TZID=Europe/Vienna:20220505T163000
DTSTAMP:20260424T064236Z
UID:6d62904bdea34f90b97c98398f79ca15@www.akbild.ac.at
CATEGORIES:Führungen / Veranstaltungen
CREATED:20220804T090612Z
DESCRIPTION:Führung mit Sabine Folie\, Direktorin der Kunstsammlungen und
  Kuratorin der Ausstellung.
LAST-MODIFIED:20240802T102312Z
URL:https://www.akbild.ac.at/de/museum-und-ausstellungen/kunstsammlungen/a
 ktuelles/gemaeldegalerie/ausstellungen/2022/das-entwendete-meisterwerk-bil
 der-als-zeitmaschinen-1/direktorinnenfuehrung-mit-sabine-folie
END:VEVENT
BEGIN:VTIMEZONE
TZID:Europe/Vienna
X-LIC-LOCATION:Europe/Vienna
BEGIN:DAYLIGHT
DTSTART:20220327T030000
TZNAME:CEST
TZOFFSETFROM:+0100
TZOFFSETTO:+0200
END:DAYLIGHT
END:VTIMEZONE
END:VCALENDAR
