BEGIN:VCALENDAR
VERSION:2.0
PRODID:-//Plone.org//NONSGML plone.app.event//EN
X-WR-TIMEZONE:Europe/Vienna
BEGIN:VEVENT
SUMMARY:Führung am Sonntag
DTSTART;TZID=Europe/Vienna:20221009T103000
DTSTAMP:20260425T181852Z
UID:48175cf880054a9e95f7b529a0358e6f@www.akbild.ac.at
CATEGORIES:Führungen / Veranstaltungen
CREATED:20220331T132055Z
DESCRIPTION:Ein_e Kunstvermittler_in der Gemäldegalerie der Akademie der 
 bildenden Künste Wien begleitet Sie durch die Ausstellung.
LAST-MODIFIED:20240802T102312Z
URL:https://www.akbild.ac.at/de/museum-und-ausstellungen/kunstsammlungen/a
 ktuelles/gemaeldegalerie/ausstellungen/2022/das-entwendete-meisterwerk-bil
 der-als-zeitmaschinen-1/fuehrung-am-so-221009
END:VEVENT
BEGIN:VTIMEZONE
TZID:Europe/Vienna
X-LIC-LOCATION:Europe/Vienna
BEGIN:DAYLIGHT
DTSTART:20220327T030000
TZNAME:CEST
TZOFFSETFROM:+0100
TZOFFSETTO:+0200
END:DAYLIGHT
END:VTIMEZONE
END:VCALENDAR
