BEGIN:VCALENDAR
VERSION:2.0
PRODID:-//Plone.org//NONSGML plone.app.event//EN
X-WR-TIMEZONE:Europe/Vienna
BEGIN:VEVENT
SUMMARY:Führung am Sonntag
DTSTART;TZID=Europe/Vienna:20221030T103000
DTSTAMP:20260425T181858Z
UID:08ffea44f1774187839c8aba2b91ca54@www.akbild.ac.at
CATEGORIES:Führungen / Veranstaltungen
CREATED:20220331T132055Z
DESCRIPTION:Ein_e Kunstvermittler_in der Gemäldegalerie der Akademie der 
 bildenden Künste Wien begleitet Sie durch die Ausstellung.
LAST-MODIFIED:20240802T102312Z
URL:https://www.akbild.ac.at/de/museum-und-ausstellungen/kunstsammlungen/a
 ktuelles/gemaeldegalerie/ausstellungen/2022/das-entwendete-meisterwerk-bil
 der-als-zeitmaschinen-1/fuehrung-am-so-221030
END:VEVENT
BEGIN:VTIMEZONE
TZID:Europe/Vienna
X-LIC-LOCATION:Europe/Vienna
BEGIN:STANDARD
DTSTART:20221030T020000
TZNAME:CET
TZOFFSETFROM:+0200
TZOFFSETTO:+0100
END:STANDARD
END:VTIMEZONE
END:VCALENDAR
