BEGIN:VCALENDAR
VERSION:2.0
PRODID:-//Plone.org//NONSGML plone.app.event//EN
X-WR-TIMEZONE:Europe/Vienna
BEGIN:VEVENT
SUMMARY:Führung am Sonntag
DTSTART;TZID=Europe/Vienna:20221106T103000
DTSTAMP:20260425T181857Z
UID:2131fda45e8c4cfbb5e55538042050e8@www.akbild.ac.at
CATEGORIES:Führungen / Veranstaltungen
CREATED:20220331T132055Z
DESCRIPTION:Historische Werke der Kunstsammlungen in einem vielschichtigen
  Dialog mit zeitgenössischer Kunst in der Überblicksführung zur Ausstel
 lung Das entwendete Meisterwerk. Bilder als Zeitmaschinen.
LAST-MODIFIED:20240802T102312Z
URL:https://www.akbild.ac.at/de/museum-und-ausstellungen/kunstsammlungen/a
 ktuelles/gemaeldegalerie/ausstellungen/2022/das-entwendete-meisterwerk-bil
 der-als-zeitmaschinen-1/fuehrung-am-so-221106
END:VEVENT
BEGIN:VTIMEZONE
TZID:Europe/Vienna
X-LIC-LOCATION:Europe/Vienna
BEGIN:STANDARD
DTSTART:20221030T020000
TZNAME:CET
TZOFFSETFROM:+0200
TZOFFSETTO:+0100
END:STANDARD
END:VTIMEZONE
END:VCALENDAR
