BEGIN:VCALENDAR
VERSION:2.0
PRODID:-//Plone.org//NONSGML plone.app.event//EN
X-WR-TIMEZONE:Europe/Vienna
BEGIN:VEVENT
SUMMARY:Kreativworkshop für Kinder (6-12 Jahre) im Rahmen von Innere Stad
 t spielt
DTSTART;TZID=Europe/Vienna:20220803T110000
DTEND;TZID=Europe/Vienna:20220803T123000
DTSTAMP:20260423T031253Z
UID:ecf7d16c36c24aa494fd8164b46b6c2b@www.akbild.ac.at
CATEGORIES:Führungen / Veranstaltungen
CREATED:20220803T120038Z
DESCRIPTION:Ausgefallene Mode\, geheimnisvolle Geschichten und beeindrucke
 nde Bilder mit schaurigen Monstern: entdecke die bunten Welten in der Kuns
 t der vergangenen Jahrhunderte. Lass dich inspirieren und male dein eigene
 s Bild in der Gemäldegalerie!
LAST-MODIFIED:20240802T102312Z
URL:https://www.akbild.ac.at/de/museum-und-ausstellungen/kunstsammlungen/a
 ktuelles/gemaeldegalerie/ausstellungen/2022/das-entwendete-meisterwerk-bil
 der-als-zeitmaschinen-1/kreativworkshop-fuer-kinder-220803
END:VEVENT
BEGIN:VTIMEZONE
TZID:Europe/Vienna
X-LIC-LOCATION:Europe/Vienna
BEGIN:DAYLIGHT
DTSTART:20220327T030000
TZNAME:CEST
TZOFFSETFROM:+0100
TZOFFSETTO:+0200
END:DAYLIGHT
END:VTIMEZONE
END:VCALENDAR
