BEGIN:VCALENDAR
VERSION:2.0
PRODID:-//Plone.org//NONSGML plone.app.event//EN
X-WR-TIMEZONE:Europe/Vienna
BEGIN:VEVENT
SUMMARY:Vortrag von Gabriele Mackert [br][em]Chronist der Meere. Über All
 an Sekulas [/em]Marea negra: Fragmentos para una ópera[/br]
DTSTART;TZID=Europe/Vienna:20221014T180000
DTSTAMP:20260423T063955Z
UID:65bfae22510f440dbf4a3a8acf0f8547@www.akbild.ac.at
CATEGORIES:Führungen / Veranstaltungen
CREATED:20220331T132055Z
LAST-MODIFIED:20240802T102312Z
URL:https://www.akbild.ac.at/de/museum-und-ausstellungen/kunstsammlungen/a
 ktuelles/gemaeldegalerie/ausstellungen/2022/das-entwendete-meisterwerk-bil
 der-als-zeitmaschinen-1/lektionen
END:VEVENT
BEGIN:VTIMEZONE
TZID:Europe/Vienna
X-LIC-LOCATION:Europe/Vienna
BEGIN:DAYLIGHT
DTSTART:20220327T030000
TZNAME:CEST
TZOFFSETFROM:+0100
TZOFFSETTO:+0200
END:DAYLIGHT
END:VTIMEZONE
END:VCALENDAR
