BEGIN:VCALENDAR
VERSION:2.0
PRODID:-//Plone.org//NONSGML plone.app.event//EN
X-WR-TIMEZONE:Europe/Vienna
BEGIN:VEVENT
SUMMARY:Führung am Sonntag
DTSTART;TZID=Europe/Vienna:20230312T103000
DTSTAMP:20260422T194317Z
UID:42825246fda24b5981015c32ab1f431e@www.akbild.ac.at
CATEGORIES:Führungen / Veranstaltungen
CREATED:20220331T132055Z
DESCRIPTION:Überblicksführung durch die Ausstellung Die Sammlung betrach
 ten &amp\; King Vulture An Insert by Willem de Rooij.
LAST-MODIFIED:20240802T102312Z
URL:https://www.akbild.ac.at/de/museum-und-ausstellungen/kunstsammlungen/a
 ktuelles/gemaeldegalerie/ausstellungen/2023/die-sammlung-betrachten-de-roo
 ij/fuehrung-am-so-230312
END:VEVENT
BEGIN:VTIMEZONE
TZID:Europe/Vienna
X-LIC-LOCATION:Europe/Vienna
BEGIN:STANDARD
DTSTART:20221030T020000
TZNAME:CET
TZOFFSETFROM:+0200
TZOFFSETTO:+0100
END:STANDARD
END:VTIMEZONE
END:VCALENDAR
