BEGIN:VCALENDAR
VERSION:2.0
PRODID:-//Plone.org//NONSGML plone.app.event//EN
X-WR-TIMEZONE:Europe/Vienna
BEGIN:VEVENT
SUMMARY:Führung am Sonntag
DTSTART;TZID=Europe/Vienna:20230514T103000
DTSTAMP:20260422T211930Z
UID:61e9756725f849f9a522006eb7f0c536@www.akbild.ac.at
CATEGORIES:Führungen / Veranstaltungen
CREATED:20220331T132055Z
DESCRIPTION:Überblicksführung durch die Ausstellung Die Sammlung betrach
 ten &amp\; King Vulture An Insert by Willem de Rooij
LAST-MODIFIED:20240802T102316Z
URL:https://www.akbild.ac.at/de/museum-und-ausstellungen/kunstsammlungen/a
 ktuelles/gemaeldegalerie/ausstellungen/2023/die-sammlung-betrachten-de-roo
 ij/fuehrung-am-so-230514
END:VEVENT
BEGIN:VTIMEZONE
TZID:Europe/Vienna
X-LIC-LOCATION:Europe/Vienna
BEGIN:DAYLIGHT
DTSTART:20230326T030000
TZNAME:CEST
TZOFFSETFROM:+0100
TZOFFSETTO:+0200
END:DAYLIGHT
END:VTIMEZONE
END:VCALENDAR
