BEGIN:VCALENDAR
VERSION:2.0
PRODID:-//Plone.org//NONSGML plone.app.event//EN
X-WR-TIMEZONE:Europe/Vienna
BEGIN:VEVENT
SUMMARY:Vortrag von Helmut Draxler: Zustand\, Situation\, Handlung. Das so
 ziale Imaginäre in der holländischen und in der flämischen Malerei
DTSTART;TZID=Europe/Vienna:20230628T180000
DTSTAMP:20260422T194055Z
UID:da1731f160794b98b42ea44021bdf315@www.akbild.ac.at
CATEGORIES:Führungen / Veranstaltungen
CREATED:20220331T132055Z
LAST-MODIFIED:20240802T102316Z
URL:https://www.akbild.ac.at/de/museum-und-ausstellungen/kunstsammlungen/a
 ktuelles/gemaeldegalerie/ausstellungen/2023/die-sammlung-betrachten-de-roo
 ij/lektion-20230628
END:VEVENT
BEGIN:VTIMEZONE
TZID:Europe/Vienna
X-LIC-LOCATION:Europe/Vienna
BEGIN:DAYLIGHT
DTSTART:20230326T030000
TZNAME:CEST
TZOFFSETFROM:+0100
TZOFFSETTO:+0200
END:DAYLIGHT
END:VTIMEZONE
END:VCALENDAR
