BEGIN:VCALENDAR
VERSION:2.0
PRODID:-//Plone.org//NONSGML plone.app.event//EN
X-WR-TIMEZONE:Europe/Vienna
BEGIN:VEVENT
SUMMARY:ORF Lange Nacht der Museen 2024
DTSTART;TZID=Europe/Vienna:20241005T180000
DTSTAMP:20260423T114534Z
UID:7f90bb29ce8548668b31e2ca85dfcf38@www.akbild.ac.at
CATEGORIES:Führungen / Veranstaltungen
CREATED:20220331T132055Z
DESCRIPTION:Führungen durch die Ausstellung zu jeder vollen Stunde ab 18 
 Uhr bis 23 Uhr. Die Gemäldegalerie ist bis Mitternacht 24 Uhr geöffnet.
LAST-MODIFIED:20241003T151600Z
URL:https://www.akbild.ac.at/de/museum-und-ausstellungen/kunstsammlungen/a
 ktuelles/gemaeldegalerie/ausstellungen/2024/ausstellung-cranachs-klaus/lan
 genachtdermuseen-20241005
END:VEVENT
BEGIN:VTIMEZONE
TZID:Europe/Vienna
X-LIC-LOCATION:Europe/Vienna
BEGIN:DAYLIGHT
DTSTART:20240331T030000
TZNAME:CEST
TZOFFSETFROM:+0100
TZOFFSETTO:+0200
END:DAYLIGHT
END:VTIMEZONE
END:VCALENDAR
