BEGIN:VCALENDAR
VERSION:2.0
PRODID:-//Plone.org//NONSGML plone.app.event//EN
X-WR-TIMEZONE:Europe/Vienna
BEGIN:VEVENT
SUMMARY:Sandra Hindriks: Vorbildliche Produktivität. Zur Aktualität von 
 Bildern der Heiligen Sippe um 1500
DTSTART;TZID=Europe/Vienna:20241009T180000
DTSTAMP:20260423T114534Z
UID:796d8d1eaf634b40b9f081d249b876d4@www.akbild.ac.at
CATEGORIES:Führungen / Veranstaltungen
CREATED:20220331T132055Z
LAST-MODIFIED:20240928T181149Z
URL:https://www.akbild.ac.at/de/museum-und-ausstellungen/kunstsammlungen/a
 ktuelles/gemaeldegalerie/ausstellungen/2024/ausstellung-cranachs-klaus/lek
 tion-20241009
END:VEVENT
BEGIN:VTIMEZONE
TZID:Europe/Vienna
X-LIC-LOCATION:Europe/Vienna
BEGIN:DAYLIGHT
DTSTART:20240331T030000
TZNAME:CEST
TZOFFSETFROM:+0100
TZOFFSETTO:+0200
END:DAYLIGHT
END:VTIMEZONE
END:VCALENDAR
