BEGIN:VCALENDAR
VERSION:2.0
PRODID:-//Plone.org//NONSGML plone.app.event//EN
X-WR-TIMEZONE:Europe/Vienna
BEGIN:VEVENT
SUMMARY:Ausstellungseröffnung
DTSTART;TZID=Europe/Vienna:20251002T190000
DTSTAMP:20260424T132558Z
UID:bd8ad7b4786f45e7805cb5296b2a815b@www.akbild.ac.at
CATEGORIES:Führungen / Veranstaltungen
CREATED:20250912T133235Z
LAST-MODIFIED:20250929T072916Z
URL:https://www.akbild.ac.at/de/museum-und-ausstellungen/kunstsammlungen/a
 ktuelles/gemaeldegalerie/ausstellungen/2025/ausstellung-sammlung-torfs/aus
 stellungseroeffnung
END:VEVENT
BEGIN:VTIMEZONE
TZID:Europe/Vienna
X-LIC-LOCATION:Europe/Vienna
BEGIN:DAYLIGHT
DTSTART:20250330T030000
TZNAME:CEST
TZOFFSETFROM:+0100
TZOFFSETTO:+0200
END:DAYLIGHT
END:VTIMEZONE
END:VCALENDAR
