BEGIN:VCALENDAR
VERSION:2.0
PRODID:-//Plone.org//NONSGML plone.app.event//EN
X-WR-TIMEZONE:Europe/Vienna
BEGIN:VEVENT
SUMMARY:The Day You Were Thinking About the Sibyl While You Were Picking A
 utumn Leaves An Insert by Ana Torfs
DTSTART;TZID=Europe/Vienna:20251003T160000
DTSTAMP:20260424T062120Z
UID:e20e100e91284dcd8a56c3c6fc1406db@www.akbild.ac.at
CATEGORIES:Führungen / Veranstaltungen
CREATED:20250912T133235Z
DESCRIPTION:Ausstellungsführung mit Sabine Folie\, Kuratorin\, und Ana To
 rfs\, Künstlerin \n(auf Englisch)
LAST-MODIFIED:20250917T103610Z
URL:https://www.akbild.ac.at/de/museum-und-ausstellungen/kunstsammlungen/a
 ktuelles/gemaeldegalerie/ausstellungen/2025/ausstellung-sammlung-torfs/aus
 stellungsfuehrung
END:VEVENT
BEGIN:VTIMEZONE
TZID:Europe/Vienna
X-LIC-LOCATION:Europe/Vienna
BEGIN:DAYLIGHT
DTSTART:20250330T030000
TZNAME:CEST
TZOFFSETFROM:+0100
TZOFFSETTO:+0200
END:DAYLIGHT
END:VTIMEZONE
END:VCALENDAR
