BEGIN:VCALENDAR
VERSION:2.0
PRODID:-//Plone.org//NONSGML plone.app.event//EN
X-WR-TIMEZONE:Europe/Vienna
BEGIN:VEVENT
SUMMARY:Zeichnen und Malen mitten in der Gemäldegalerie ABGESAGT
DTSTART;TZID=Europe/Vienna:20251213T130000
DTEND;TZID=Europe/Vienna:20251213T150000
DTSTAMP:20260421T132522Z
UID:c03134c172f14f52bcba4b399b571b71@www.akbild.ac.at
CATEGORIES:Führungen / Veranstaltungen
CREATED:20250912T133235Z
DESCRIPTION:Kreativworkshop für Kinder (6–12 Jahre)
LAST-MODIFIED:20251212T204538Z
URL:https://www.akbild.ac.at/de/museum-und-ausstellungen/kunstsammlungen/a
 ktuelles/gemaeldegalerie/ausstellungen/2025/ausstellung-sammlung-torfs/kin
 der-ws-20251213
END:VEVENT
BEGIN:VTIMEZONE
TZID:Europe/Vienna
X-LIC-LOCATION:Europe/Vienna
BEGIN:STANDARD
DTSTART:20251026T020000
TZNAME:CET
TZOFFSETFROM:+0200
TZOFFSETTO:+0100
END:STANDARD
END:VTIMEZONE
END:VCALENDAR
