BEGIN:VCALENDAR
VERSION:2.0
PRODID:-//Plone.org//NONSGML plone.app.event//EN
X-WR-TIMEZONE:Europe/Vienna
BEGIN:VEVENT
SUMMARY:The Day You Were Thinking About the Sibyl While You Were Picking A
 utumn Leaves An Insert by Ana Torfs
DTSTART;TZID=Europe/Vienna:20251107T160000
DTSTAMP:20260423T230458Z
UID:61bd4bae835741399c0db49042250664@www.akbild.ac.at
CATEGORIES:Führungen / Veranstaltungen
CREATED:20250912T133235Z
DESCRIPTION:Kuratorinnenführung mit Sabine Folie und Synne Genzmer. Vienn
 a Art Week
LAST-MODIFIED:20251104T093037Z
URL:https://www.akbild.ac.at/de/museum-und-ausstellungen/kunstsammlungen/a
 ktuelles/gemaeldegalerie/ausstellungen/2025/ausstellung-sammlung-torfs/kur
 atorinnenfuehrung-vienna-art-week
END:VEVENT
BEGIN:VTIMEZONE
TZID:Europe/Vienna
X-LIC-LOCATION:Europe/Vienna
BEGIN:STANDARD
DTSTART:20251026T020000
TZNAME:CET
TZOFFSETFROM:+0200
TZOFFSETTO:+0100
END:STANDARD
END:VTIMEZONE
END:VCALENDAR
