BEGIN:VCALENDAR
VERSION:2.0
PRODID:-//Plone.org//NONSGML plone.app.event//EN
X-WR-TIMEZONE:Europe/Vienna
BEGIN:VEVENT
SUMMARY:ORF Lange Nacht der Museen 2025
DTSTART;TZID=Europe/Vienna:20251004T180000
DTEND;TZID=Europe/Vienna:20251004T220000
DTSTAMP:20260419T132255Z
UID:df053e3d28244753a2400f17f096594b@www.akbild.ac.at
CATEGORIES:Führungen / Veranstaltungen
CREATED:20220331T132055Z
DESCRIPTION:Führungen durch die Ausstellung zu jeder vollen Stunde ab 18 
 Uhr bis 22 Uhr. Die Gemäldegalerie ist bis Mitternacht 24 Uhr geöffnet.
LAST-MODIFIED:20250924T095953Z
URL:https://www.akbild.ac.at/de/museum-und-ausstellungen/kunstsammlungen/a
 ktuelles/gemaeldegalerie/ausstellungen/2025/ausstellung-sammlung-torfs/lan
 ge-nacht-der-museen-2025-10-04
END:VEVENT
BEGIN:VTIMEZONE
TZID:Europe/Vienna
X-LIC-LOCATION:Europe/Vienna
BEGIN:DAYLIGHT
DTSTART:20250330T030000
TZNAME:CEST
TZOFFSETFROM:+0100
TZOFFSETTO:+0200
END:DAYLIGHT
END:VTIMEZONE
END:VCALENDAR
