BEGIN:VCALENDAR
VERSION:2.0
PRODID:-//Plone.org//NONSGML plone.app.event//EN
X-WR-TIMEZONE:Europe/Vienna
BEGIN:VEVENT
SUMMARY:Galeriekonzert
DTSTART;TZID=Europe/Vienna:20140521T193000
DTSTAMP:20260423T105757Z
UID:138034f0b95c691f20eec4006f9e943e@www.akbild.ac.at
CATEGORIES:Führungen / Veranstaltungen
CREATED:20220312T142217Z
DESCRIPTION:DAS BESONDERE GALERIEKONZERT.\n \n Selten gespielte Barockmusi
 k auf Originalinstrumenten
LAST-MODIFIED:20240802T102325Z
URL:https://www.akbild.ac.at/de/museum-und-ausstellungen/kunstsammlungen/a
 ktuelles/gemaeldegalerie/fuehrungen_veranstaltungen/2014/akbild_event.2014
 -05-02.2774621009
END:VEVENT
BEGIN:VTIMEZONE
TZID:Europe/Vienna
X-LIC-LOCATION:Europe/Vienna
BEGIN:DAYLIGHT
DTSTART:20140330T030000
TZNAME:CEST
TZOFFSETFROM:+0100
TZOFFSETTO:+0200
END:DAYLIGHT
END:VTIMEZONE
END:VCALENDAR
