BEGIN:VCALENDAR
VERSION:2.0
PRODID:-//Plone.org//NONSGML plone.app.event//EN
X-WR-TIMEZONE:Europe/Vienna
BEGIN:VEVENT
SUMMARY:VIVACE\, ADAGIO\, ALLEGRO. Das besondere Galeriekonzert
DTSTART;TZID=Europe/Vienna:20150929T193000
DTSTAMP:20260426T043231Z
UID:a2e5ccb62122da9209e4bcadded03353@www.akbild.ac.at
CATEGORIES:Führungen / Veranstaltungen
CREATED:20220312T142525Z
LAST-MODIFIED:20240802T102332Z
URL:https://www.akbild.ac.at/de/museum-und-ausstellungen/kunstsammlungen/a
 ktuelles/gemaeldegalerie/fuehrungen_veranstaltungen/2015/vivace
END:VEVENT
BEGIN:VTIMEZONE
TZID:Europe/Vienna
X-LIC-LOCATION:Europe/Vienna
BEGIN:DAYLIGHT
DTSTART:20150329T030000
TZNAME:CEST
TZOFFSETFROM:+0100
TZOFFSETTO:+0200
END:DAYLIGHT
END:VTIMEZONE
END:VCALENDAR
