BEGIN:VCALENDAR
VERSION:2.0
PRODID:-//Plone.org//NONSGML plone.app.event//EN
X-WR-TIMEZONE:Europe/Vienna
BEGIN:VEVENT
SUMMARY:SPUR DER ARBEIT – WIE MAN MENSCHEN MALT(E). Maltechnische Aspekt
 e bei der Gestaltung von menschlichen Körperformen
DTSTART;TZID=Europe/Vienna:20161116T160000
DTSTAMP:20260426T030633Z
UID:945181ad6857f002345646eb1f61d24f@www.akbild.ac.at
CATEGORIES:Führungen / Veranstaltungen
CREATED:20220312T142837Z
DESCRIPTION:Spezialführung zum Thema Maltechnik\n \n \n mit DI Mag. art D
 orothea Kehrer-Kaan
LAST-MODIFIED:20240802T102340Z
URL:https://www.akbild.ac.at/de/museum-und-ausstellungen/kunstsammlungen/a
 ktuelles/gemaeldegalerie/fuehrungen_veranstaltungen/2016/copy_of_spur-der-
 arbeit-2013-wie-bilder-entstehen.-ein-ueberblick-ueber-die-traditionellen-
 maltechniken
END:VEVENT
BEGIN:VTIMEZONE
TZID:Europe/Vienna
X-LIC-LOCATION:Europe/Vienna
BEGIN:STANDARD
DTSTART:20161030T020000
TZNAME:CET
TZOFFSETFROM:+0200
TZOFFSETTO:+0100
END:STANDARD
END:VTIMEZONE
END:VCALENDAR
