BEGIN:VCALENDAR
VERSION:2.0
PRODID:-//Plone.org//NONSGML plone.app.event//EN
X-WR-TIMEZONE:Europe/Vienna
BEGIN:VEVENT
SUMMARY:Galeriekonzert im Vorfrühling
DTSTART;TZID=Europe/Vienna:20160315T193000
DTSTAMP:20260424T174240Z
UID:8fc250e8bd75107bf86570d170b1835e@www.akbild.ac.at
CATEGORIES:Führungen / Veranstaltungen
CREATED:20220312T142649Z
DESCRIPTION:mit Christiane Karajeva (Klavier) und David Frühwirth (Violin
 e)
LAST-MODIFIED:20240802T102336Z
URL:https://www.akbild.ac.at/de/museum-und-ausstellungen/kunstsammlungen/a
 ktuelles/gemaeldegalerie/fuehrungen_veranstaltungen/2016/galeriekonzert-im
 -vorfruehling
END:VEVENT
BEGIN:VTIMEZONE
TZID:Europe/Vienna
X-LIC-LOCATION:Europe/Vienna
BEGIN:STANDARD
DTSTART:20151025T020000
TZNAME:CET
TZOFFSETFROM:+0200
TZOFFSETTO:+0100
END:STANDARD
END:VTIMEZONE
END:VCALENDAR
