BEGIN:VCALENDAR
VERSION:2.0
PRODID:-//Plone.org//NONSGML plone.app.event//EN
X-WR-TIMEZONE:Europe/Vienna
BEGIN:VEVENT
SUMMARY:HIERONYMUS BOSCH – JUST HAPPENING. Seeing with the eyes of the B
 ody
DTSTART;TZID=Europe/Vienna:20160512T160000
DTSTAMP:20260419T164217Z
UID:9490c6df68da4721c39d0a9f5efdecd1@www.akbild.ac.at
CATEGORIES:Führungen / Veranstaltungen
CREATED:20220312T142708Z
DESCRIPTION:Präsentation im Rahmen des EU-Tanzprojekts\n \n  Dancing Muse
 ums.
LAST-MODIFIED:20240802T102336Z
URL:https://www.akbild.ac.at/de/museum-und-ausstellungen/kunstsammlungen/a
 ktuelles/gemaeldegalerie/fuehrungen_veranstaltungen/2016/hieronymus-bosch-
 2013-just-happening.-seeing-with-the-eyes-of-the-body
END:VEVENT
BEGIN:VTIMEZONE
TZID:Europe/Vienna
X-LIC-LOCATION:Europe/Vienna
BEGIN:DAYLIGHT
DTSTART:20160327T030000
TZNAME:CEST
TZOFFSETFROM:+0100
TZOFFSETTO:+0200
END:DAYLIGHT
END:VTIMEZONE
END:VCALENDAR
