BEGIN:VCALENDAR
VERSION:2.0
PRODID:-//Plone.org//NONSGML plone.app.event//EN
X-WR-TIMEZONE:Europe/Vienna
BEGIN:VEVENT
SUMMARY:Magic Bosch – Maler\, Teufel\, Gaukler. Meister der Illusion
DTSTART;TZID=Europe/Vienna:20170623T183000
DTSTAMP:20260426T001446Z
UID:cd410e4c0b54cad7154dcb35601e5455@www.akbild.ac.at
CATEGORIES:Führungen / Veranstaltungen
CREATED:20220312T143310Z
DESCRIPTION:Zauber-Soirée\n \n mit Magic Christian und kunsthistorischer 
 Einleitung von Dr. Erwin Pokorny
LAST-MODIFIED:20240802T102348Z
URL:https://www.akbild.ac.at/de/museum-und-ausstellungen/kunstsammlungen/a
 ktuelles/gemaeldegalerie/fuehrungen_veranstaltungen/2017/copy3_of_magic-bo
 sch-2013-gaukler-maler-teufel.-meister-der-illusion
END:VEVENT
BEGIN:VTIMEZONE
TZID:Europe/Vienna
X-LIC-LOCATION:Europe/Vienna
BEGIN:DAYLIGHT
DTSTART:20170326T030000
TZNAME:CEST
TZOFFSETFROM:+0100
TZOFFSETTO:+0200
END:DAYLIGHT
END:VTIMEZONE
END:VCALENDAR
