BEGIN:VCALENDAR
VERSION:2.0
PRODID:-//Plone.org//NONSGML plone.app.event//EN
X-WR-TIMEZONE:Europe/Vienna
BEGIN:VEVENT
SUMMARY:Magic Bosch - Gaukler\, Maler\, Teufel. Meister der Illusion
DTSTART;TZID=Europe/Vienna:20170325T183000
DTSTAMP:20260426T014035Z
UID:0f8659e7fb3d2bd989d36461453758a6@www.akbild.ac.at
CATEGORIES:Führungen / Veranstaltungen
CREATED:20220312T143100Z
DESCRIPTION:Zauber-Soirée\n \n mit Magic Christian und kunsthistorischer 
 Einleitung von Dr. Erwin Pokorny
LAST-MODIFIED:20240802T102344Z
URL:https://www.akbild.ac.at/de/museum-und-ausstellungen/kunstsammlungen/a
 ktuelles/gemaeldegalerie/fuehrungen_veranstaltungen/2017/copy_of_magic-bos
 ch-2013-gaukler-maler-teufel.-meister-der-illusion
END:VEVENT
BEGIN:VTIMEZONE
TZID:Europe/Vienna
X-LIC-LOCATION:Europe/Vienna
BEGIN:STANDARD
DTSTART:20161030T020000
TZNAME:CET
TZOFFSETFROM:+0200
TZOFFSETTO:+0100
END:STANDARD
END:VTIMEZONE
END:VCALENDAR
