BEGIN:VCALENDAR
VERSION:2.0
PRODID:-//Plone.org//NONSGML plone.app.event//EN
X-WR-TIMEZONE:Europe/Vienna
BEGIN:VEVENT
SUMMARY:Vom Parthenonfries bis zu Michelangelos Pietà
DTSTART;TZID=Europe/Vienna:20181018T160000
DTEND;TZID=Europe/Vienna:20181018T170000
DTSTAMP:20260424T175939Z
UID:6331c756e39ded7ceefe1a022f1896bd@www.akbild.ac.at
CATEGORIES:Führungen / Veranstaltungen
CREATED:20220312T143713Z
DESCRIPTION:Kuratorinnenführung durch die Glyptothek mit Andrea Domanig
LAST-MODIFIED:20240802T102352Z
URL:https://www.akbild.ac.at/de/museum-und-ausstellungen/kunstsammlungen/a
 ktuelles/gemaeldegalerie/fuehrungen_veranstaltungen/2018/copy2_of_vom-part
 henonfries-bis-zu-michelangelos-pieta
END:VEVENT
BEGIN:VTIMEZONE
TZID:Europe/Vienna
X-LIC-LOCATION:Europe/Vienna
BEGIN:DAYLIGHT
DTSTART:20180325T030000
TZNAME:CEST
TZOFFSETFROM:+0100
TZOFFSETTO:+0200
END:DAYLIGHT
END:VTIMEZONE
END:VCALENDAR
