BEGIN:VCALENDAR
VERSION:2.0
PRODID:-//Plone.org//NONSGML plone.app.event//EN
X-WR-TIMEZONE:Europe/Vienna
BEGIN:VEVENT
SUMMARY:FROM THE INSIDE OUT - Bewegende Bilder
DTSTART;TZID=Europe/Vienna:20180513T140000
DTSTAMP:20260424T170256Z
UID:e9cb6357bdf47d3f8ed59535131303a0@www.akbild.ac.at
CATEGORIES:Führungen / Veranstaltungen
CREATED:20220312T143617Z
DESCRIPTION:Schnupper-Workshop mit Liz King im Rahmen des Internationalen 
 Museumstages
LAST-MODIFIED:20240802T102352Z
URL:https://www.akbild.ac.at/de/museum-und-ausstellungen/kunstsammlungen/a
 ktuelles/gemaeldegalerie/fuehrungen_veranstaltungen/2018/copy3_of_from-the
 -inside-out-bewegende-bilder
END:VEVENT
BEGIN:VTIMEZONE
TZID:Europe/Vienna
X-LIC-LOCATION:Europe/Vienna
BEGIN:DAYLIGHT
DTSTART:20180325T030000
TZNAME:CEST
TZOFFSETFROM:+0100
TZOFFSETTO:+0200
END:DAYLIGHT
END:VTIMEZONE
END:VCALENDAR
