BEGIN:VCALENDAR
VERSION:2.0
PRODID:-//Plone.org//NONSGML plone.app.event//EN
X-WR-TIMEZONE:Europe/Vienna
BEGIN:VEVENT
SUMMARY:Führung zur Ausstellung BOSCH & BURGERT
DTSTART;TZID=Europe/Vienna:20180203T153000
DTSTAMP:20260424T164244Z
UID:4f4287bd79120b929e467f6dae2e9576@www.akbild.ac.at
CATEGORIES:Führungen / Veranstaltungen
CREATED:20220312T143514Z
DESCRIPTION:Führung zur Ausstellung\n \n  \n   BOSCH &amp\; BURGERT | Jon
 as Burgert: Ihr Schön\n  \n  \n \n aus der Ausstellungsreihe\n \n  Korres
 pondenzen
LAST-MODIFIED:20240802T102352Z
URL:https://www.akbild.ac.at/de/museum-und-ausstellungen/kunstsammlungen/a
 ktuelles/gemaeldegalerie/fuehrungen_veranstaltungen/2018/copy5_of_fuehrung
 -zur-ausstellung-bosch-burgert
END:VEVENT
BEGIN:VTIMEZONE
TZID:Europe/Vienna
X-LIC-LOCATION:Europe/Vienna
BEGIN:STANDARD
DTSTART:20171029T020000
TZNAME:CET
TZOFFSETFROM:+0200
TZOFFSETTO:+0100
END:STANDARD
END:VTIMEZONE
END:VCALENDAR
