BEGIN:VCALENDAR
VERSION:2.0
PRODID:-//Plone.org//NONSGML plone.app.event//EN
X-WR-TIMEZONE:Europe/Vienna
BEGIN:VEVENT
SUMMARY:Zeichnen ist Denken mit Stift - Unser Skizzenbuch
DTSTART;TZID=Europe/Vienna:20180620T150000
DTSTAMP:20260424T192620Z
UID:9ba0fff2c63606fd8d257db625a59b27@www.akbild.ac.at
CATEGORIES:Führungen / Veranstaltungen
CREATED:20220312T143700Z
DESCRIPTION:Workshop für Kinder und Jugendliche von 6 bis 14 Jahren mit D
 iplompädagogin Stephanie Sentall BA
LAST-MODIFIED:20240802T102352Z
URL:https://www.akbild.ac.at/de/museum-und-ausstellungen/kunstsammlungen/a
 ktuelles/gemaeldegalerie/fuehrungen_veranstaltungen/2018/copy5_of_zeichnen
 -ist-denken-mit-stift-unser-erstes-skizzenbuch
END:VEVENT
BEGIN:VTIMEZONE
TZID:Europe/Vienna
X-LIC-LOCATION:Europe/Vienna
BEGIN:DAYLIGHT
DTSTART:20180325T030000
TZNAME:CEST
TZOFFSETFROM:+0100
TZOFFSETTO:+0200
END:DAYLIGHT
END:VTIMEZONE
END:VCALENDAR
