BEGIN:VCALENDAR
VERSION:2.0
PRODID:-//Plone.org//NONSGML plone.app.event//EN
X-WR-TIMEZONE:Europe/Vienna
BEGIN:VEVENT
SUMMARY:Zeichnen nach der Antike mit Anleitung
DTSTART;TZID=Europe/Vienna:20181011T140000
DTEND;TZID=Europe/Vienna:20181011T170000
DTSTAMP:20260424T183735Z
UID:d87c58f589a451ec670d9ca589a978cb@www.akbild.ac.at
CATEGORIES:Führungen / Veranstaltungen
CREATED:20220312T143740Z
DESCRIPTION:Die Glyptothek öffnet für Zeichennachmittage.
LAST-MODIFIED:20240802T102352Z
URL:https://www.akbild.ac.at/de/museum-und-ausstellungen/kunstsammlungen/a
 ktuelles/gemaeldegalerie/fuehrungen_veranstaltungen/2018/copy6_of_zeichnen
 -nach-der-antike
END:VEVENT
BEGIN:VTIMEZONE
TZID:Europe/Vienna
X-LIC-LOCATION:Europe/Vienna
BEGIN:DAYLIGHT
DTSTART:20180325T030000
TZNAME:CEST
TZOFFSETFROM:+0100
TZOFFSETTO:+0200
END:DAYLIGHT
END:VTIMEZONE
END:VCALENDAR
