BEGIN:VCALENDAR
VERSION:2.0
PRODID:-//Plone.org//NONSGML plone.app.event//EN
X-WR-TIMEZONE:Europe/Vienna
BEGIN:VEVENT
SUMMARY:Führung zur Ausstellung BOSCH & KANTOR
DTSTART;TZID=Europe/Vienna:20181007T103000
DTEND;TZID=Europe/Vienna:20181007T113000
DTSTAMP:20260424T180058Z
UID:1e1870c1c7d46345c79df85c7192cff8@www.akbild.ac.at
CATEGORIES:Führungen / Veranstaltungen
CREATED:20220312T143737Z
DESCRIPTION:Führung durch die Gemäldegalerie mit Schwerpunkt auf Hierony
 mus Bosch und\n \n  Bosch &amp\; Kantor.\n \n Maxim Kantor:\n \n  Das Jün
 gste Gericht
LAST-MODIFIED:20240802T102352Z
URL:https://www.akbild.ac.at/de/museum-und-ausstellungen/kunstsammlungen/a
 ktuelles/gemaeldegalerie/fuehrungen_veranstaltungen/2018/copy7_of_fuehrung
 -zur-ausstellung-bosch-burgert
END:VEVENT
BEGIN:VTIMEZONE
TZID:Europe/Vienna
X-LIC-LOCATION:Europe/Vienna
BEGIN:DAYLIGHT
DTSTART:20180325T030000
TZNAME:CEST
TZOFFSETFROM:+0100
TZOFFSETTO:+0200
END:DAYLIGHT
END:VTIMEZONE
END:VCALENDAR
