BEGIN:VCALENDAR
VERSION:2.0
PRODID:-//Plone.org//NONSGML plone.app.event//EN
X-WR-TIMEZONE:Europe/Vienna
BEGIN:VEVENT
SUMMARY:BOSCOS VERMÄCHTNIS - Italienische Zaubereien
DTSTART;TZID=Europe/Vienna:20181012T183000
DTEND;TZID=Europe/Vienna:20181012T203000
DTSTAMP:20260424T202118Z
UID:608c231a92dd4771d19d0c009c82ca10@www.akbild.ac.at
CATEGORIES:Führungen / Veranstaltungen
CREATED:20220312T143746Z
DESCRIPTION:Nach der erfolgreichen Serie\n \n  Magic Bosch\n \n gibt es in
  diesem Jahr ein Wiedersehen mit dem Meister der "schwarzen  Magie" von We
 ltformat: Magic Christian! Er hat sich erneut für die  Gemäldegalerie de
 r Akademie der bildenden Künste Wien ein ganz  spezielles Programm ausged
 acht.\n \n So entführt er das Publikum mit Fingerfertigkeit und Wortwitz 
 auf eine  Reise durch die Täuschungskunst von der italienischen Renaissan
 ce bis  zur Gegenwart. Erfahren Sie Wissenswertes und Amüsantes über Luc
 a  Paccioli\, Leonardo da Vinci\, Graf Scotto\, Giovanni Volpato\, Chevali
 er  Pinetti\, Bartolomeo Bosco und Aldo Silvan. Magic Christian ist ein  b
 rillanter Erzähler mitreißender Anekdoten aus der reichen Geschichte  de
 r magischen Künste und so verbindet er Informatives mit der Vorführung  
 verblüffender Zaubereien. Lassen Sie sich im Eroica-Saal des  Theatermuse
 ums verzaubern!\n \n \n Vor der Zaubershow haben Sie die Möglichkeit die 
 Gemäldegalerie zu  besichtigen. In einem kurzen Vortrag erfahren Sie mehr
  über die  italienischen Gemälde vom 15. bis zum 18. Jahrhundert. Nach d
 er Show  erwartet Sie ein Buffet mit italienischen Köstlichkeiten.
LAST-MODIFIED:20240802T102356Z
URL:https://www.akbild.ac.at/de/museum-und-ausstellungen/kunstsammlungen/a
 ktuelles/gemaeldegalerie/fuehrungen_veranstaltungen/2018/copy8_of_gehen-wo
 hin-wir-noch-nie-waren-fernweh-und-wanderlust
END:VEVENT
BEGIN:VTIMEZONE
TZID:Europe/Vienna
X-LIC-LOCATION:Europe/Vienna
BEGIN:DAYLIGHT
DTSTART:20180325T030000
TZNAME:CEST
TZOFFSETFROM:+0100
TZOFFSETTO:+0200
END:DAYLIGHT
END:VTIMEZONE
END:VCALENDAR
