BEGIN:VCALENDAR
VERSION:2.0
PRODID:-//Plone.org//NONSGML plone.app.event//EN
X-WR-TIMEZONE:Europe/Vienna
BEGIN:VEVENT
SUMMARY:FROM THE INSIDE OUT - Bewegende Bilder
DTSTART;TZID=Europe/Vienna:20180202T140000
DTSTAMP:20260424T180241Z
UID:d95f1c1dd8c1723fdfa46f2ea92f0bc0@www.akbild.ac.at
CATEGORIES:Führungen / Veranstaltungen
CREATED:20220312T143508Z
DESCRIPTION:Workshop mit Liz King
LAST-MODIFIED:20240802T102352Z
URL:https://www.akbild.ac.at/de/museum-und-ausstellungen/kunstsammlungen/a
 ktuelles/gemaeldegalerie/fuehrungen_veranstaltungen/2018/copy_of_from-the-
 inside-out-bewegende-bilder
END:VEVENT
BEGIN:VTIMEZONE
TZID:Europe/Vienna
X-LIC-LOCATION:Europe/Vienna
BEGIN:STANDARD
DTSTART:20171029T020000
TZNAME:CET
TZOFFSETFROM:+0200
TZOFFSETTO:+0100
END:STANDARD
END:VTIMEZONE
END:VCALENDAR
