BEGIN:VCALENDAR
VERSION:2.0
PRODID:-//Plone.org//NONSGML plone.app.event//EN
X-WR-TIMEZONE:Europe/Vienna
BEGIN:VEVENT
SUMMARY:Vom Parthenonfries bis zu Michelangelos Pietà
DTSTART;TZID=Europe/Vienna:20180913T160000
DTEND;TZID=Europe/Vienna:20180913T170000
DTSTAMP:20260424T180016Z
UID:4cfc400169d4e33f77919eb82f75d9d0@www.akbild.ac.at
CATEGORIES:Führungen / Veranstaltungen
CREATED:20220312T143706Z
DESCRIPTION:Kuratorinnenführung durch die Glyptothek mit Andrea Domanig
LAST-MODIFIED:20240802T102352Z
URL:https://www.akbild.ac.at/de/museum-und-ausstellungen/kunstsammlungen/a
 ktuelles/gemaeldegalerie/fuehrungen_veranstaltungen/2018/copy_of_vom-parth
 enonfries-bis-zu-michelangelos-pieta
END:VEVENT
BEGIN:VTIMEZONE
TZID:Europe/Vienna
X-LIC-LOCATION:Europe/Vienna
BEGIN:DAYLIGHT
DTSTART:20180325T030000
TZNAME:CEST
TZOFFSETFROM:+0100
TZOFFSETTO:+0200
END:DAYLIGHT
END:VTIMEZONE
END:VCALENDAR
