BEGIN:VCALENDAR
VERSION:2.0
PRODID:-//Plone.org//NONSGML plone.app.event//EN
X-WR-TIMEZONE:Europe/Vienna
BEGIN:VEVENT
SUMMARY:Zeichnen nach der Antike
DTSTART;TZID=Europe/Vienna:20180503T140000
DTEND;TZID=Europe/Vienna:20180503T170000
DTSTAMP:20260424T162104Z
UID:32ac951698e574e15bcca422b5449e2b@www.akbild.ac.at
CATEGORIES:Führungen / Veranstaltungen
CREATED:20220312T143556Z
DESCRIPTION:Die Glyptothek öffnet für Zeichennachmittage.
LAST-MODIFIED:20240802T102352Z
URL:https://www.akbild.ac.at/de/museum-und-ausstellungen/kunstsammlungen/a
 ktuelles/gemaeldegalerie/fuehrungen_veranstaltungen/2018/copy_of_zeichnen-
 nach-der-antike
END:VEVENT
BEGIN:VTIMEZONE
TZID:Europe/Vienna
X-LIC-LOCATION:Europe/Vienna
BEGIN:DAYLIGHT
DTSTART:20180325T030000
TZNAME:CEST
TZOFFSETFROM:+0100
TZOFFSETTO:+0200
END:DAYLIGHT
END:VTIMEZONE
END:VCALENDAR
