BEGIN:VCALENDAR
VERSION:2.0
PRODID:-//Plone.org//NONSGML plone.app.event//EN
X-WR-TIMEZONE:Europe/Vienna
BEGIN:VEVENT
SUMMARY:Künstlergespräch mit Nina Schedlmayer
DTSTART;TZID=Europe/Vienna:20180315T190000
DTSTAMP:20260424T162205Z
UID:a8340e9e40ff3d9f1c4f9045019f3fcc@www.akbild.ac.at
CATEGORIES:Führungen / Veranstaltungen
CREATED:20220312T143547Z
DESCRIPTION:Bosch  &amp\; Burgert\n \n \n Der  Künstler Jonas Burgert und
  die Ausstellungsreihe\n \n  Korrespondenzen
LAST-MODIFIED:20240802T102352Z
URL:https://www.akbild.ac.at/de/museum-und-ausstellungen/kunstsammlungen/a
 ktuelles/gemaeldegalerie/fuehrungen_veranstaltungen/2018/kuenstlergespraec
 h-mit-nina-schedlmayer
END:VEVENT
BEGIN:VTIMEZONE
TZID:Europe/Vienna
X-LIC-LOCATION:Europe/Vienna
BEGIN:STANDARD
DTSTART:20171029T020000
TZNAME:CET
TZOFFSETFROM:+0200
TZOFFSETTO:+0100
END:STANDARD
END:VTIMEZONE
END:VCALENDAR
