BEGIN:VCALENDAR
VERSION:2.0
PRODID:-//Plone.org//NONSGML plone.app.event//EN
X-WR-TIMEZONE:Europe/Vienna
BEGIN:VEVENT
SUMMARY:Kurator_innenführung | BOSCH & HOFBAUER
DTSTART;TZID=Europe/Vienna:20180414T153000
DTSTAMP:20260424T162207Z
UID:bc8b0a26d97cc93f179ecb4715cac379@www.akbild.ac.at
CATEGORIES:Führungen / Veranstaltungen
CREATED:20220312T143553Z
DESCRIPTION:mit Anamarija Batista\, Kulturwissenschaftlerin und Ökonomin
LAST-MODIFIED:20240802T102352Z
URL:https://www.akbild.ac.at/de/museum-und-ausstellungen/kunstsammlungen/a
 ktuelles/gemaeldegalerie/fuehrungen_veranstaltungen/2018/kurator_innenfueh
 rung-bosch-hofbauer
END:VEVENT
BEGIN:VTIMEZONE
TZID:Europe/Vienna
X-LIC-LOCATION:Europe/Vienna
BEGIN:DAYLIGHT
DTSTART:20180325T030000
TZNAME:CEST
TZOFFSETFROM:+0100
TZOFFSETTO:+0200
END:DAYLIGHT
END:VTIMEZONE
END:VCALENDAR
