BEGIN:VCALENDAR
VERSION:2.0
PRODID:-//Plone.org//NONSGML plone.app.event//EN
X-WR-TIMEZONE:Europe/Vienna
BEGIN:VEVENT
SUMMARY:Maria Theresia - Liebet mich immer | Briefe an ihre engste Freundi
 n
DTSTART;TZID=Europe/Vienna:20180513T180000
DTEND;TZID=Europe/Vienna:20180513T200000
DTSTAMP:20260424T183844Z
UID:3125bae86dcb018574d9ce3e9161d858@www.akbild.ac.at
CATEGORIES:Führungen / Veranstaltungen
CREATED:20220312T143600Z
DESCRIPTION:Lesung mit Brigitte Karner anlässlich des 301. Geburtstages v
 on Maria Theresia
LAST-MODIFIED:20240802T102352Z
URL:https://www.akbild.ac.at/de/museum-und-ausstellungen/kunstsammlungen/a
 ktuelles/gemaeldegalerie/fuehrungen_veranstaltungen/2018/maria-theresia-li
 ebet-mich-immer-briefe-an-ihre-engste-freundin
END:VEVENT
BEGIN:VTIMEZONE
TZID:Europe/Vienna
X-LIC-LOCATION:Europe/Vienna
BEGIN:DAYLIGHT
DTSTART:20180325T030000
TZNAME:CEST
TZOFFSETFROM:+0100
TZOFFSETTO:+0200
END:DAYLIGHT
END:VTIMEZONE
END:VCALENDAR
