BEGIN:VCALENDAR
VERSION:2.0
PRODID:-//Plone.org//NONSGML plone.app.event//EN
X-WR-TIMEZONE:Europe/Vienna
BEGIN:VEVENT
SUMMARY:Bosch Konferenz
DTSTART;VALUE=DATE:20191121
DTEND;VALUE=DATE:20191124
DTSTAMP:20260424T205453Z
UID:c961ffe504da1c988f9570cb25c3d60d@www.akbild.ac.at
CATEGORIES:Führungen / Veranstaltungen
CREATED:20220312T144011Z
DESCRIPTION:Hieronymus Boschs\n \n  Weltgerichts-Triptychon\n \n in seiner
  Zeit
LAST-MODIFIED:20240802T102356Z
URL:https://www.akbild.ac.at/de/museum-und-ausstellungen/kunstsammlungen/a
 ktuelles/gemaeldegalerie/fuehrungen_veranstaltungen/2019/bosch-konferenz
END:VEVENT
END:VCALENDAR
