BEGIN:VCALENDAR
VERSION:2.0
PRODID:-//Plone.org//NONSGML plone.app.event//EN
X-WR-TIMEZONE:Europe/Vienna
BEGIN:VEVENT
SUMMARY:BOSCOS VERMÄCHTNIS - Italienische Zaubereien
DTSTART;TZID=Europe/Vienna:20190116T183000
DTEND;TZID=Europe/Vienna:20190116T203000
DTSTAMP:20260424T192738Z
UID:fe60c9bb65bdaad844e8d57ec71987be@www.akbild.ac.at
CATEGORIES:Führungen / Veranstaltungen
CREATED:20220312T143836Z
DESCRIPTION:Nach der erfolgreichen Serie\n \n  Magic Bosch\n \n gibt es in
  diesem Jahr ein Wiedersehen mit dem Meister der "schwarzen  Magie" von We
 ltformat: Magic Christian! Er hat sich erneut für die  Gemäldegalerie de
 r Akademie der bildenden Künste Wien ein ganz  spezielles Programm ausged
 acht.
LAST-MODIFIED:20240802T102356Z
URL:https://www.akbild.ac.at/de/museum-und-ausstellungen/kunstsammlungen/a
 ktuelles/gemaeldegalerie/fuehrungen_veranstaltungen/2019/copy10_of_gehen-w
 ohin-wir-noch-nie-waren-fernweh-und-wanderlust
END:VEVENT
BEGIN:VTIMEZONE
TZID:Europe/Vienna
X-LIC-LOCATION:Europe/Vienna
BEGIN:STANDARD
DTSTART:20181028T020000
TZNAME:CET
TZOFFSETFROM:+0200
TZOFFSETTO:+0100
END:STANDARD
END:VTIMEZONE
END:VCALENDAR
