BEGIN:VCALENDAR
VERSION:2.0
PRODID:-//Plone.org//NONSGML plone.app.event//EN
X-WR-TIMEZONE:Europe/Vienna
BEGIN:VEVENT
SUMMARY:Führung im Rahmen des Akademie-Rundgangs 2019
DTSTART;TZID=Europe/Vienna:20190126T103000
DTSTAMP:20260424T192632Z
UID:6214ecb78a7bb0254b71b908d3a4bc0a@www.akbild.ac.at
CATEGORIES:Führungen / Veranstaltungen
CREATED:20220312T143840Z
DESCRIPTION:Von Hexen\, Meerwundern und der Apokalypse\n  \n  - Frühe Dru
 ckgraphiken von Albrecht Dürer
LAST-MODIFIED:20240802T102356Z
URL:https://www.akbild.ac.at/de/museum-und-ausstellungen/kunstsammlungen/a
 ktuelles/gemaeldegalerie/fuehrungen_veranstaltungen/2019/copy2_of_fuehrung
 -im-rahmen-des-akademie-rundgangs-2019
END:VEVENT
BEGIN:VTIMEZONE
TZID:Europe/Vienna
X-LIC-LOCATION:Europe/Vienna
BEGIN:STANDARD
DTSTART:20181028T020000
TZNAME:CET
TZOFFSETFROM:+0200
TZOFFSETTO:+0100
END:STANDARD
END:VTIMEZONE
END:VCALENDAR
