BEGIN:VCALENDAR
VERSION:2.0
PRODID:-//Plone.org//NONSGML plone.app.event//EN
X-WR-TIMEZONE:Europe/Vienna
BEGIN:VEVENT
SUMMARY:Führung zur Ausstellung BOSCH & KANTOR
DTSTART;TZID=Europe/Vienna:20190106T103000
DTEND;TZID=Europe/Vienna:20190106T113000
DTSTAMP:20260424T192738Z
UID:8276c8be7072882e2729b346760500e7@www.akbild.ac.at
CATEGORIES:Führungen / Veranstaltungen
CREATED:20220312T143828Z
DESCRIPTION:Führung durch die Gemäldegalerie mit Schwerpunkt auf Hierony
 mus Bosch und\n \n  Bosch &amp\; Kantor.\n \n Maxim Kantor:\n \n  Das Jün
 gste Gericht
LAST-MODIFIED:20240802T102356Z
URL:https://www.akbild.ac.at/de/museum-und-ausstellungen/kunstsammlungen/a
 ktuelles/gemaeldegalerie/fuehrungen_veranstaltungen/2019/copy6_of_fuehrung
 -zur-ausstellung-bosch-burgert
END:VEVENT
BEGIN:VTIMEZONE
TZID:Europe/Vienna
X-LIC-LOCATION:Europe/Vienna
BEGIN:STANDARD
DTSTART:20181028T020000
TZNAME:CET
TZOFFSETFROM:+0200
TZOFFSETTO:+0100
END:STANDARD
END:VTIMEZONE
END:VCALENDAR
