BEGIN:VCALENDAR
VERSION:2.0
PRODID:-//Plone.org//NONSGML plone.app.event//EN
X-WR-TIMEZONE:Europe/Vienna
BEGIN:VEVENT
SUMMARY:Bosch und Banisadr
DTSTART;TZID=Europe/Vienna:20190904T190000
DTSTAMP:20260424T205659Z
UID:02ae41d5f8f5a509f053262792b23e93@www.akbild.ac.at
CATEGORIES:Führungen / Veranstaltungen
CREATED:20220312T143852Z
DESCRIPTION:Künstlergespräch mit Ali Banisadr\, Künstler\, Nina Schedlm
 ayer\, Kunstkritikerin\, und Julia M. Nauhaus  \,  Direktorin der Gemälde
 galerie der Akademie der bildenden Künste Wien.
LAST-MODIFIED:20240802T102356Z
URL:https://www.akbild.ac.at/de/museum-und-ausstellungen/kunstsammlungen/a
 ktuelles/gemaeldegalerie/fuehrungen_veranstaltungen/2019/copy_of_bosch-ku3
 08hn-susanne-ku308hn-beastville
END:VEVENT
BEGIN:VTIMEZONE
TZID:Europe/Vienna
X-LIC-LOCATION:Europe/Vienna
BEGIN:DAYLIGHT
DTSTART:20190331T030000
TZNAME:CEST
TZOFFSETFROM:+0100
TZOFFSETTO:+0200
END:DAYLIGHT
END:VTIMEZONE
END:VCALENDAR
