BEGIN:VCALENDAR
VERSION:2.0
PRODID:-//Plone.org//NONSGML plone.app.event//EN
X-WR-TIMEZONE:Europe/Vienna
BEGIN:VEVENT
SUMMARY:Sonderführung zum Tag des Denkmals 2019
DTSTART;TZID=Europe/Vienna:20190929T163000
DTSTAMP:20260424T215745Z
UID:4382d71ab2d98ca3d1d6b10cb1b5f733@www.akbild.ac.at
CATEGORIES:Führungen / Veranstaltungen
CREATED:20220312T143913Z
DESCRIPTION:mit Emmi Franke
LAST-MODIFIED:20240802T102356Z
URL:https://www.akbild.ac.at/de/museum-und-ausstellungen/kunstsammlungen/a
 ktuelles/gemaeldegalerie/fuehrungen_veranstaltungen/2019/copy_of_kuratorin
 nen-fuehrung-bosch-banisadr02
END:VEVENT
BEGIN:VTIMEZONE
TZID:Europe/Vienna
X-LIC-LOCATION:Europe/Vienna
BEGIN:DAYLIGHT
DTSTART:20190331T030000
TZNAME:CEST
TZOFFSETFROM:+0100
TZOFFSETTO:+0200
END:DAYLIGHT
END:VTIMEZONE
END:VCALENDAR
