BEGIN:VCALENDAR
VERSION:2.0
PRODID:-//Plone.org//NONSGML plone.app.event//EN
X-WR-TIMEZONE:Europe/Vienna
BEGIN:VEVENT
SUMMARY:Expertinnenführung | Bosch und Banisadr
DTSTART;TZID=Europe/Vienna:20191120T160000
DTSTAMP:20260424T205540Z
UID:e0759a33742a6db447d7ad23b1bd52a1@www.akbild.ac.at
CATEGORIES:Führungen / Veranstaltungen
CREATED:20220312T144017Z
DESCRIPTION:durch die Ausstellung\n \n  Bosch &amp\; Banisadr\n \n mit Nin
 a Schedlmayer und Claudia Bauer im Rahmen der\n \n  Vienna Art Week
LAST-MODIFIED:20240802T102400Z
URL:https://www.akbild.ac.at/de/museum-und-ausstellungen/kunstsammlungen/a
 ktuelles/gemaeldegalerie/fuehrungen_veranstaltungen/2019/fuehrung-bosch-ba
 nisadr-20191120
END:VEVENT
BEGIN:VTIMEZONE
TZID:Europe/Vienna
X-LIC-LOCATION:Europe/Vienna
BEGIN:STANDARD
DTSTART:20191027T020000
TZNAME:CET
TZOFFSETFROM:+0200
TZOFFSETTO:+0100
END:STANDARD
END:VTIMEZONE
END:VCALENDAR
