BEGIN:VCALENDAR
VERSION:2.0
PRODID:-//Plone.org//NONSGML plone.app.event//EN
X-WR-TIMEZONE:Europe/Vienna
BEGIN:VEVENT
SUMMARY:Führung am Sonntag | Bosch und Banisadr
DTSTART;TZID=Europe/Vienna:20190929T103000
DTSTAMP:20260424T202106Z
UID:f157b2db6c7baf4bb4e405b8aa6f4784@www.akbild.ac.at
CATEGORIES:Führungen / Veranstaltungen
CREATED:20220312T143910Z
DESCRIPTION:Ausstellungsführung durch die Gemäldegalerie mit Schwerpunkt
  auf Hieronymus Bosch und\n \n  Bosch &amp\; Banisadr. Ali Banisadr: We Wo
 rk in Shadows\n \n mit Johannes Karel
LAST-MODIFIED:20240802T102356Z
URL:https://www.akbild.ac.at/de/museum-und-ausstellungen/kunstsammlungen/a
 ktuelles/gemaeldegalerie/fuehrungen_veranstaltungen/2019/fuehrung-bosch-ba
 nisadr01
END:VEVENT
BEGIN:VTIMEZONE
TZID:Europe/Vienna
X-LIC-LOCATION:Europe/Vienna
BEGIN:DAYLIGHT
DTSTART:20190331T030000
TZNAME:CEST
TZOFFSETFROM:+0100
TZOFFSETTO:+0200
END:DAYLIGHT
END:VTIMEZONE
END:VCALENDAR
