BEGIN:VCALENDAR
VERSION:2.0
PRODID:-//Plone.org//NONSGML plone.app.event//EN
X-WR-TIMEZONE:Europe/Vienna
BEGIN:VEVENT
SUMMARY:Führung am Sonntag | Bosch und Banisadr
DTSTART;TZID=Europe/Vienna:20191027T103000
DTSTAMP:20260424T223424Z
UID:4aad48bd425096b0145acad3b8832af5@www.akbild.ac.at
CATEGORIES:Führungen / Veranstaltungen
CREATED:20220312T143950Z
DESCRIPTION:Ausstellungsführung durch die Gemäldegalerie mit Schwerpunkt
  auf Hieronymus Bosch und\n \n  Bosch &amp\; Banisadr. Ali Banisadr: We Wo
 rk in Shadows\n \n mit Claudia Baumann
LAST-MODIFIED:20240802T102356Z
URL:https://www.akbild.ac.at/de/museum-und-ausstellungen/kunstsammlungen/a
 ktuelles/gemaeldegalerie/fuehrungen_veranstaltungen/2019/fuehrung-bosch-ba
 nisadr02
END:VEVENT
BEGIN:VTIMEZONE
TZID:Europe/Vienna
X-LIC-LOCATION:Europe/Vienna
BEGIN:STANDARD
DTSTART:20191027T020000
TZNAME:CET
TZOFFSETFROM:+0200
TZOFFSETTO:+0100
END:STANDARD
END:VTIMEZONE
END:VCALENDAR
