BEGIN:VCALENDAR
VERSION:2.0
PRODID:-//Plone.org//NONSGML plone.app.event//EN
X-WR-TIMEZONE:Europe/Vienna
BEGIN:VEVENT
SUMMARY:Führung durch die Glyptothek
DTSTART;TZID=Europe/Vienna:20190912T163000
DTSTAMP:20260424T191941Z
UID:838bba0926cb5deee2603234f37a582d@www.akbild.ac.at
CATEGORIES:Führungen / Veranstaltungen
CREATED:20220312T143900Z
DESCRIPTION:mit Emmi Franke
LAST-MODIFIED:20240802T102356Z
URL:https://www.akbild.ac.at/de/museum-und-ausstellungen/kunstsammlungen/a
 ktuelles/gemaeldegalerie/fuehrungen_veranstaltungen/2019/fuehrung-glyptoth
 ek
END:VEVENT
BEGIN:VTIMEZONE
TZID:Europe/Vienna
X-LIC-LOCATION:Europe/Vienna
BEGIN:DAYLIGHT
DTSTART:20190331T030000
TZNAME:CEST
TZOFFSETFROM:+0100
TZOFFSETTO:+0200
END:DAYLIGHT
END:VTIMEZONE
END:VCALENDAR
