BEGIN:VCALENDAR
VERSION:2.0
PRODID:-//Plone.org//NONSGML plone.app.event//EN
X-WR-TIMEZONE:Europe/Vienna
BEGIN:VEVENT
SUMMARY:Kuratorenführung | Bosch & Pitié
DTSTART;TZID=Europe/Vienna:20191212T163000
DTSTAMP:20260424T223446Z
UID:3b6a4c81bfc2c82ef7ad532546b671d5@www.akbild.ac.at
CATEGORIES:Führungen / Veranstaltungen
CREATED:20220312T144033Z
DESCRIPTION:mit Klaus Speidel\, Kurator der Ausstellung
LAST-MODIFIED:20240802T102400Z
URL:https://www.akbild.ac.at/de/museum-und-ausstellungen/kunstsammlungen/a
 ktuelles/gemaeldegalerie/fuehrungen_veranstaltungen/2019/kuratorenfuehrung
 -bosch-pitie
END:VEVENT
BEGIN:VTIMEZONE
TZID:Europe/Vienna
X-LIC-LOCATION:Europe/Vienna
BEGIN:STANDARD
DTSTART:20191027T020000
TZNAME:CET
TZOFFSETFROM:+0200
TZOFFSETTO:+0100
END:STANDARD
END:VTIMEZONE
END:VCALENDAR
