BEGIN:VCALENDAR
VERSION:2.0
PRODID:-//Plone.org//NONSGML plone.app.event//EN
X-WR-TIMEZONE:Europe/Vienna
BEGIN:VEVENT
SUMMARY:Kuratorinnenführung | Bosch und Banisadr
DTSTART;TZID=Europe/Vienna:20191017T163000
DTSTAMP:20260424T205724Z
UID:2213bf05d190e6f9fea331437119dcde@www.akbild.ac.at
CATEGORIES:Führungen / Veranstaltungen
CREATED:20220312T143941Z
DESCRIPTION:mit Julia M. Nauhaus\, Direktorin der Gemäldegalerie der Akad
 emie der bildenden Künste Wien
LAST-MODIFIED:20240802T102356Z
URL:https://www.akbild.ac.at/de/museum-und-ausstellungen/kunstsammlungen/a
 ktuelles/gemaeldegalerie/fuehrungen_veranstaltungen/2019/kuratorinnen-fueh
 rung-bosch-banisadr02
END:VEVENT
BEGIN:VTIMEZONE
TZID:Europe/Vienna
X-LIC-LOCATION:Europe/Vienna
BEGIN:DAYLIGHT
DTSTART:20190331T030000
TZNAME:CEST
TZOFFSETFROM:+0100
TZOFFSETTO:+0200
END:DAYLIGHT
END:VTIMEZONE
END:VCALENDAR
