BEGIN:VCALENDAR
VERSION:2.0
PRODID:-//Plone.org//NONSGML plone.app.event//EN
X-WR-TIMEZONE:Europe/Vienna
BEGIN:VEVENT
SUMMARY:ORF Lange Nacht der Museen – „We Work in Shadows“
DTSTART;TZID=Europe/Vienna:20191005T200000
DTSTAMP:20260424T035206Z
UID:38d7cf7341519f1fc76b5f2adfbdc3d9@www.akbild.ac.at
CATEGORIES:Führungen / Veranstaltungen
CREATED:20220312T143923Z
DESCRIPTION:Führung durch die Ausstellung\n \n  Bosch &amp\; Banisadr. Al
 i Banisadr: We Work in Shadows
LAST-MODIFIED:20240802T102356Z
URL:https://www.akbild.ac.at/de/museum-und-ausstellungen/kunstsammlungen/a
 ktuelles/gemaeldegalerie/fuehrungen_veranstaltungen/2019/lange-nacht-der-m
 useen-bosch-banisadr-20
END:VEVENT
BEGIN:VTIMEZONE
TZID:Europe/Vienna
X-LIC-LOCATION:Europe/Vienna
BEGIN:DAYLIGHT
DTSTART:20190331T030000
TZNAME:CEST
TZOFFSETFROM:+0100
TZOFFSETTO:+0200
END:DAYLIGHT
END:VTIMEZONE
END:VCALENDAR
